BEGIN:VCALENDAR
VERSION:2.0
PRODID:-//Kosair Shrine Center - ECPv6.6.4.2//NONSGML v1.0//EN
CALSCALE:GREGORIAN
METHOD:PUBLISH
X-WR-CALNAME:Kosair Shrine Center
X-ORIGINAL-URL:https://kosair.com
X-WR-CALDESC:Events for Kosair Shrine Center
REFRESH-INTERVAL;VALUE=DURATION:PT1H
X-Robots-Tag:noindex
X-PUBLISHED-TTL:PT1H
BEGIN:VTIMEZONE
TZID:America/Kentucky/Louisville
BEGIN:DAYLIGHT
TZOFFSETFROM:-0500
TZOFFSETTO:-0400
TZNAME:EDT
DTSTART:20260308T070000
END:DAYLIGHT
BEGIN:STANDARD
TZOFFSETFROM:-0400
TZOFFSETTO:-0500
TZNAME:EST
DTSTART:20261101T060000
END:STANDARD
END:VTIMEZONE
BEGIN:VEVENT
DTSTART;TZID=America/Kentucky/Louisville:20260421T120000
DTEND;TZID=America/Kentucky/Louisville:20260421T130000
DTSTAMP:20260421T013822
CREATED:20260415T190904Z
LAST-MODIFIED:20260415T190904Z
UID:10001035-1776772800-1776776400@kosair.com
SUMMARY:Legion of Honor
DESCRIPTION:
URL:https://kosair.com/event/legion-of-honor/2026-04-21/
LOCATION:Kosair Shrine Center\, 4120 Bardstown Road\, Louisville\, KY\, 40218\, United States
CATEGORIES:Club & Unit Meetings
ATTACH;FMTTYPE=image/png:https://kosair.com/wp-content/uploads/2022/08/Legion-of-Honor-Unit.png
END:VEVENT
BEGIN:VEVENT
DTSTART;TZID=America/Kentucky/Louisville:20260421T173000
DTEND;TZID=America/Kentucky/Louisville:20260421T213000
DTSTAMP:20260421T013822
CREATED:20260223T200258Z
LAST-MODIFIED:20260223T203856Z
UID:10000277-1776792600-1776807000@kosair.com
SUMMARY:Line Dancing
DESCRIPTION:Weekly Line Dancing with Alice \nJoin us each week for a fun\, welcoming night of movement and music at the Kosair Shrine Center. This isn’t just boots and country — we mix in a variety of popular and social dance favorites to keep the floor energized and everyone engaged. \nWhether you’re brand new or have a few steps under your belt\, you’ll feel right at home. \nBeginner Lessons: 5:30 PM – 6:30 PMOpen Line Dancing: 6:30 PM – 9:30 PMAdmission: $6.00 \nCome solo or bring friends — it’s a great way to stay active\, meet new people\, and enjoy a relaxed\, social evening.
URL:https://kosair.com/event/line-dancing/2026-04-21/
LOCATION:Kosair Shrine Center\, 4120 Bardstown Road\, Louisville\, KY\, 40218\, United States
CATEGORIES:Public Events,Social & Entertainment
ATTACH;FMTTYPE=image/png:https://kosair.com/wp-content/uploads/2026/02/LineDancing.png
END:VEVENT
BEGIN:VEVENT
DTSTART;TZID=America/Kentucky/Louisville:20260421T190000
DTEND;TZID=America/Kentucky/Louisville:20260421T200000
DTSTAMP:20260421T013822
CREATED:20260226T152804Z
LAST-MODIFIED:20260302T033606Z
UID:10000493-1776798000-1776801600@kosair.com
SUMMARY:Golf Club
DESCRIPTION:The Kosair Golf Club brings Nobles together for fellowship\, friendly competition\, and a shared love of the game while supporting the mission of our fraternity. With annual dues of just $25 and no initiation fee\, the club welcomes all Nobles who enjoy golf—whether you’re chasing birdies or simply enjoying the camaraderie. The 18-week summer league runs from May through late September with Thursday morning shotgun starts at rotating local courses\, and the club handles scheduling\, handicaps\, and pairings—just join and show up. Members also enjoy post-round lunches\, overnight trips\, and an annual banquet. The club meets on the third Tuesday of each month at 7:00 PM at the Kosair Shrine Center.
URL:https://kosair.com/event/golf-club/2026-04-21/
LOCATION:Kosair Shrine Center\, 4120 Bardstown Road\, Louisville\, KY\, 40218\, United States
CATEGORIES:Club & Unit Meetings
ATTACH;FMTTYPE=image/png:https://kosair.com/wp-content/uploads/2022/08/Golf-Club.png
END:VEVENT
BEGIN:VEVENT
DTSTART;TZID=America/Kentucky/Louisville:20260421T200000
DTEND;TZID=America/Kentucky/Louisville:20260421T210000
DTSTAMP:20260421T013822
CREATED:20260415T190540Z
LAST-MODIFIED:20260415T190540Z
UID:10000974-1776801600-1776805200@kosair.com
SUMMARY:Dale Hollow SC
DESCRIPTION:
URL:https://kosair.com/event/dale-hollow-sc/2026-04-21/
LOCATION:Kosair Shrine Center\, 4120 Bardstown Road\, Louisville\, KY\, 40218\, United States
CATEGORIES:Club & Unit Meetings
ATTACH;FMTTYPE=image/png:https://kosair.com/wp-content/uploads/2022/08/Dale-Hallow-Club.png
END:VEVENT
END:VCALENDAR