BEGIN:VCALENDAR
VERSION:2.0
PRODID:-//Kosair Shrine Center - ECPv6.6.4.2//NONSGML v1.0//EN
CALSCALE:GREGORIAN
METHOD:PUBLISH
X-ORIGINAL-URL:https://kosair.com
X-WR-CALDESC:Events for Kosair Shrine Center
REFRESH-INTERVAL;VALUE=DURATION:PT1H
X-Robots-Tag:noindex
X-PUBLISHED-TTL:PT1H
BEGIN:VTIMEZONE
TZID:America/Kentucky/Louisville
BEGIN:DAYLIGHT
TZOFFSETFROM:-0500
TZOFFSETTO:-0400
TZNAME:EDT
DTSTART:20260308T070000
END:DAYLIGHT
BEGIN:STANDARD
TZOFFSETFROM:-0400
TZOFFSETTO:-0500
TZNAME:EST
DTSTART:20261101T060000
END:STANDARD
END:VTIMEZONE
BEGIN:VEVENT
DTSTART;TZID=America/Kentucky/Louisville:20260307T170000
DTEND;TZID=America/Kentucky/Louisville:20260307T220000
DTSTAMP:20260423T115117
CREATED:20260221T040940Z
LAST-MODIFIED:20260221T184008Z
UID:10000012-1772902800-1772920800@kosair.com
SUMMARY:Second Annual Robert Burns Dinner
DESCRIPTION:Willis-Stewart Lodge No. 224\, in partnership with Kosair Shrine\, will host the Second Annual Robert Burns Dinner on Saturday\, January 24\, 2026\, at the Kosair Shrine Center\, located at 4120 Bardstown Road\, Louisville\, Kentucky.\n\nThe evening will celebrate the life and literary legacy of Robert Burns\, Scotland’s national poet\, through fellowship\, tradition\, and a shared meal. The event will begin with a social hour at 5:00 p.m.\, followed by dinner at 6:00 p.m.\n\nTickets are $25 per person\, with a cash bar available. Tickets may be purchased at the door\, making the event open and accessible to members\, friends\, and the community.\n\nThe Robert Burns Dinner is a time-honored tradition observed by Masons and Scottish heritage enthusiasts worldwide. The evening typically features readings\, reflections\, and camaraderie honoring Burns’ enduring influence on literature\, culture\, and the values of friendship and humanity.\n\nThis marks the second year Willis-Stewart Lodge No. 224 and Kosair Shrine have partnered to bring this tradition to Louisville\, continuing a commitment to fellowship\, heritage\, and community engagement.\n\nEvent DetailsEvent: Second Annual Robert Burns DinnerDate: Saturday\, January 24\, 2026Location: Kosair Shrine\, 4120 Bardstown Road\, Louisville\, KY 40218Social Hour: 5:00 p.m.Dinner: 6:00 p.m.Tickets: $25 per personBar: Cash barTickets Available: At the door
URL:https://kosair.com/event/second-annual-robert-burns-dinner/
LOCATION:Kosair Shrine Center\, 4120 Bardstown Road\, Louisville\, KY\, 40218\, United States
CATEGORIES:Public Events,Signature Events
ATTACH;FMTTYPE=image/jpeg:https://kosair.com/wp-content/uploads/2026/02/2ndRobertBurns.jpg
END:VEVENT
END:VCALENDAR