BEGIN:VCALENDAR
VERSION:2.0
PRODID:-//Kosair Shrine Center - ECPv6.6.4.2//NONSGML v1.0//EN
CALSCALE:GREGORIAN
METHOD:PUBLISH
X-WR-CALNAME:Kosair Shrine Center
X-ORIGINAL-URL:https://kosair.com
X-WR-CALDESC:Events for Kosair Shrine Center
REFRESH-INTERVAL;VALUE=DURATION:PT1H
X-Robots-Tag:noindex
X-PUBLISHED-TTL:PT1H
BEGIN:VTIMEZONE
TZID:America/Kentucky/Louisville
BEGIN:DAYLIGHT
TZOFFSETFROM:-0500
TZOFFSETTO:-0400
TZNAME:EDT
DTSTART:20260308T070000
END:DAYLIGHT
BEGIN:STANDARD
TZOFFSETFROM:-0400
TZOFFSETTO:-0500
TZNAME:EST
DTSTART:20261101T060000
END:STANDARD
END:VTIMEZONE
BEGIN:VEVENT
DTSTART;TZID=America/Kentucky/Louisville:20260423T180000
DTEND;TZID=America/Kentucky/Louisville:20260423T220000
DTSTAMP:20260423T123256
CREATED:20260221T043754Z
LAST-MODIFIED:20260221T044004Z
UID:10000143-1776967200-1776981600@kosair.com
SUMMARY:Kosair Karaoke
DESCRIPTION:
URL:https://kosair.com/event/kosair-karaoke/2026-04-23/
LOCATION:Kosair Shrine Center\, 4120 Bardstown Road\, Louisville\, KY\, 40218\, United States
CATEGORIES:Public Events,Social & Entertainment
END:VEVENT
BEGIN:VEVENT
DTSTART;TZID=America/Kentucky/Louisville:20260424T183000
DTEND;TZID=America/Kentucky/Louisville:20260424T193000
DTSTAMP:20260423T123256
CREATED:20260403T165947Z
LAST-MODIFIED:20260403T165947Z
UID:10000462-1777055400-1777059000@kosair.com
SUMMARY:Family Friday Dinner
DESCRIPTION:Friday Night Fun & Fellowship Dinner \nStart your weekend with great food and even better company at the Kosair Shrine Center. Friday Night Fun & Fellowship is a relaxed\, welcoming evening for Nobles\, Ladies\, friends\, and guests to gather\, connect\, and enjoy a casual meal together. \nWhether you’re coming straight from work or making it a night out\, this is a simple way to stay engaged and enjoy time with your Kosair family. \nDinner Service Begins: 6:00 PMLocation: Kosair Shrine Center \nThis Week’s Menu:\nBaked Chicken\nRoasted Potatoes\nSweet Potatoes\nMixed Vegies\nPeas & Carrots\nStewed Tomatoes\nHominy\nRolls
URL:https://kosair.com/event/family-friday-dinner-6/
LOCATION:Kosair Shrine Center\, 4120 Bardstown Road\, Louisville\, KY\, 40218\, United States
CATEGORIES:Public Events,Social & Entertainment
END:VEVENT
BEGIN:VEVENT
DTSTART;TZID=America/Kentucky/Louisville:20260427T183000
DTEND;TZID=America/Kentucky/Louisville:20260427T213000
DTSTAMP:20260423T123256
CREATED:20260221T183404Z
LAST-MODIFIED:20260403T171341Z
UID:10000234-1777314600-1777325400@kosair.com
SUMMARY:Bunco
DESCRIPTION:
URL:https://kosair.com/event/bunco/2026-04-27/
LOCATION:Kosair Shrine Center\, 4120 Bardstown Road\, Louisville\, KY\, 40218\, United States
CATEGORIES:Public Events,Social & Entertainment
ATTACH;FMTTYPE=image/jpeg:https://kosair.com/wp-content/uploads/2024/06/Bunco.jpg
END:VEVENT
BEGIN:VEVENT
DTSTART;TZID=America/Kentucky/Louisville:20260428T173000
DTEND;TZID=America/Kentucky/Louisville:20260428T213000
DTSTAMP:20260423T123256
CREATED:20260223T200258Z
LAST-MODIFIED:20260223T203856Z
UID:10000278-1777397400-1777411800@kosair.com
SUMMARY:Line Dancing
DESCRIPTION:Weekly Line Dancing with Alice \nJoin us each week for a fun\, welcoming night of movement and music at the Kosair Shrine Center. This isn’t just boots and country — we mix in a variety of popular and social dance favorites to keep the floor energized and everyone engaged. \nWhether you’re brand new or have a few steps under your belt\, you’ll feel right at home. \nBeginner Lessons: 5:30 PM – 6:30 PMOpen Line Dancing: 6:30 PM – 9:30 PMAdmission: $6.00 \nCome solo or bring friends — it’s a great way to stay active\, meet new people\, and enjoy a relaxed\, social evening.
URL:https://kosair.com/event/line-dancing/2026-04-28/
LOCATION:Kosair Shrine Center\, 4120 Bardstown Road\, Louisville\, KY\, 40218\, United States
CATEGORIES:Public Events,Social & Entertainment
ATTACH;FMTTYPE=image/png:https://kosair.com/wp-content/uploads/2026/02/LineDancing.png
END:VEVENT
BEGIN:VEVENT
DTSTART;TZID=America/Kentucky/Louisville:20260430T180000
DTEND;TZID=America/Kentucky/Louisville:20260430T220000
DTSTAMP:20260423T123256
CREATED:20260221T043754Z
LAST-MODIFIED:20260221T044004Z
UID:10000144-1777572000-1777586400@kosair.com
SUMMARY:Kosair Karaoke
DESCRIPTION:
URL:https://kosair.com/event/kosair-karaoke/2026-04-30/
LOCATION:Kosair Shrine Center\, 4120 Bardstown Road\, Louisville\, KY\, 40218\, United States
CATEGORIES:Public Events,Social & Entertainment
END:VEVENT
END:VCALENDAR